BEGIN:VCALENDAR
VERSION:2.0
PRODID:-//Peacox Peer Center - ECPv6.15.13//NONSGML v1.0//EN
CALSCALE:GREGORIAN
METHOD:PUBLISH
X-WR-CALNAME:Peacox Peer Center
X-ORIGINAL-URL:https://peacoxpeercenter.org
X-WR-CALDESC:Events for Peacox Peer Center
REFRESH-INTERVAL;VALUE=DURATION:PT1H
X-Robots-Tag:noindex
X-PUBLISHED-TTL:PT1H
BEGIN:VTIMEZONE
TZID:America/New_York
BEGIN:DAYLIGHT
TZOFFSETFROM:-0500
TZOFFSETTO:-0400
TZNAME:EDT
DTSTART:20240310T070000
END:DAYLIGHT
BEGIN:STANDARD
TZOFFSETFROM:-0400
TZOFFSETTO:-0500
TZNAME:EST
DTSTART:20241103T060000
END:STANDARD
BEGIN:DAYLIGHT
TZOFFSETFROM:-0500
TZOFFSETTO:-0400
TZNAME:EDT
DTSTART:20250309T070000
END:DAYLIGHT
BEGIN:STANDARD
TZOFFSETFROM:-0400
TZOFFSETTO:-0500
TZNAME:EST
DTSTART:20251102T060000
END:STANDARD
BEGIN:DAYLIGHT
TZOFFSETFROM:-0500
TZOFFSETTO:-0400
TZNAME:EDT
DTSTART:20260308T070000
END:DAYLIGHT
BEGIN:STANDARD
TZOFFSETFROM:-0400
TZOFFSETTO:-0500
TZNAME:EST
DTSTART:20261101T060000
END:STANDARD
END:VTIMEZONE
BEGIN:VEVENT
DTSTART;TZID=America/New_York:20251018T130000
DTEND;TZID=America/New_York:20251018T143000
DTSTAMP:20260420T005638
CREATED:20251007T183430Z
LAST-MODIFIED:20251007T183430Z
UID:1310-1760792400-1760797800@peacoxpeercenter.org
SUMMARY:Volunteer Appreciation Cookout
DESCRIPTION:
URL:https://peacoxpeercenter.org/detailed-view/volunteer-appreciation-cookout/
END:VEVENT
BEGIN:VEVENT
DTSTART;TZID=America/New_York:20251018T110000
DTEND;TZID=America/New_York:20251018T130000
DTSTAMP:20260420T005638
CREATED:20251007T182952Z
LAST-MODIFIED:20251007T182952Z
UID:1304-1760785200-1760792400@peacoxpeercenter.org
SUMMARY:Community Clean-up
DESCRIPTION:LET’S COME TOGETHER TO MAKE OUR NEIGHBORHOOD A CLEANER\, GREENER PLACE! GRAB YOUR GLOVES AND HELP US PICK UP LITTER\, OR SHOW YOUR SUPPORT – EVERY HAND MAKES A DIFFERENCE. GLOVES\, GARBAGE BAGS\, AND REFRESHMENTS WILL BE PROVIDED
URL:https://peacoxpeercenter.org/detailed-view/community-clean-up-2/
ATTACH;FMTTYPE=image/png:https://peacoxpeercenter.org/wp-content/uploads/2025/10/Community-Clean-up.png
END:VEVENT
BEGIN:VEVENT
DTSTART;TZID=America/New_York:20251018T110000
DTEND;TZID=America/New_York:20251018T123000
DTSTAMP:20260420T005638
CREATED:20251007T183341Z
LAST-MODIFIED:20251007T183341Z
UID:1307-1760785200-1760790600@peacoxpeercenter.org
SUMMARY:Recovery Advisory Committee
DESCRIPTION:
URL:https://peacoxpeercenter.org/detailed-view/recovery-advisory-committee-2/
ATTACH;FMTTYPE=image/png:https://peacoxpeercenter.org/wp-content/uploads/2025/10/RAC.png
END:VEVENT
BEGIN:VEVENT
DTSTART;TZID=America/New_York:20251018T100000
DTEND;TZID=America/New_York:20251018T120000
DTSTAMP:20260420T005638
CREATED:20251007T182855Z
LAST-MODIFIED:20251007T182855Z
UID:1302-1760781600-1760788800@peacoxpeercenter.org
SUMMARY:STEM Academy
DESCRIPTION:How to Start Coding.
URL:https://peacoxpeercenter.org/detailed-view/stem-academy-8/
ATTACH;FMTTYPE=image/png:https://peacoxpeercenter.org/wp-content/uploads/2025/10/Food-Distribution-.png
END:VEVENT
BEGIN:VEVENT
DTSTART;TZID=America/New_York:20251017T180000
DTEND;TZID=America/New_York:20251017T190000
DTSTAMP:20260420T005638
CREATED:20251007T182149Z
LAST-MODIFIED:20251007T182149Z
UID:1289-1760724000-1760727600@peacoxpeercenter.org
SUMMARY:NA Silver Lining Meeting
DESCRIPTION:Narcotics Anonymous Silver Lining Meeting
URL:https://peacoxpeercenter.org/detailed-view/na-silver-lining-meeting-3/
ATTACH;FMTTYPE=image/png:https://peacoxpeercenter.org/wp-content/uploads/2025/10/NA.png
END:VEVENT
BEGIN:VEVENT
DTSTART;TZID=America/New_York:20251017T130000
DTEND;TZID=America/New_York:20251017T143000
DTSTAMP:20260420T005638
CREATED:20251007T181428Z
LAST-MODIFIED:20251007T181428Z
UID:1280-1760706000-1760711400@peacoxpeercenter.org
SUMMARY:Art Expressions Class
DESCRIPTION:
URL:https://peacoxpeercenter.org/detailed-view/art-expressions-class-23/
ATTACH;FMTTYPE=image/png:https://peacoxpeercenter.org/wp-content/uploads/2025/10/Art-Expression-.png
END:VEVENT
BEGIN:VEVENT
DTSTART;TZID=America/New_York:20251016T180000
DTEND;TZID=America/New_York:20251016T190000
DTSTAMP:20260420T005638
CREATED:20251007T193436Z
LAST-MODIFIED:20251007T193436Z
UID:1328-1760637600-1760641200@peacoxpeercenter.org
SUMMARY:AA Big Book Study Meeting
DESCRIPTION:Alcoholics Anonymous Big Book Study Meeting
URL:https://peacoxpeercenter.org/detailed-view/aa-big-book-study-meeting-3/
ATTACH;FMTTYPE=image/png:https://peacoxpeercenter.org/wp-content/uploads/2025/10/AA-1.png
END:VEVENT
BEGIN:VEVENT
DTSTART;TZID=America/New_York:20251015T153000
DTEND;TZID=America/New_York:20251015T180000
DTSTAMP:20260420T005638
CREATED:20251007T194242Z
LAST-MODIFIED:20251007T194242Z
UID:1345-1760542200-1760551200@peacoxpeercenter.org
SUMMARY:Student Mentoring
DESCRIPTION:
URL:https://peacoxpeercenter.org/detailed-view/student-mentoring-77/
END:VEVENT
BEGIN:VEVENT
DTSTART;TZID=America/New_York:20251014T153000
DTEND;TZID=America/New_York:20251014T180000
DTSTAMP:20260420T005638
CREATED:20251007T194213Z
LAST-MODIFIED:20251007T194213Z
UID:1343-1760455800-1760464800@peacoxpeercenter.org
SUMMARY:Student Mentoring
DESCRIPTION:
URL:https://peacoxpeercenter.org/detailed-view/student-mentoring-76/
END:VEVENT
BEGIN:VEVENT
DTSTART;TZID=America/New_York:20251013T153000
DTEND;TZID=America/New_York:20251013T180000
DTSTAMP:20260420T005638
CREATED:20251007T194152Z
LAST-MODIFIED:20251007T194152Z
UID:1341-1760369400-1760378400@peacoxpeercenter.org
SUMMARY:Student Mentoring
DESCRIPTION:
URL:https://peacoxpeercenter.org/detailed-view/student-mentoring-75/
END:VEVENT
BEGIN:VEVENT
DTSTART;TZID=America/New_York:20251012T040000
DTEND;TZID=America/New_York:20251012T120000
DTSTAMP:20260420T005638
CREATED:20251007T180517Z
LAST-MODIFIED:20251007T180517Z
UID:1264-1760241600-1760270400@peacoxpeercenter.org
SUMMARY:Worship Services
DESCRIPTION:
URL:https://peacoxpeercenter.org/detailed-view/worship-services-20/
END:VEVENT
BEGIN:VEVENT
DTSTART;TZID=America/New_York:20251011T110000
DTEND;TZID=America/New_York:20251011T123000
DTSTAMP:20260420T005638
CREATED:20251007T182804Z
LAST-MODIFIED:20251007T182804Z
UID:1299-1760180400-1760185800@peacoxpeercenter.org
SUMMARY:Food\, Clothing & Hygiene Distribution
DESCRIPTION:Let’s Help Those in Need.
URL:https://peacoxpeercenter.org/detailed-view/food-clothing-hygiene-distribution/
ATTACH;FMTTYPE=image/png:https://peacoxpeercenter.org/wp-content/uploads/2025/10/Food-Distribution-.png
END:VEVENT
BEGIN:VEVENT
DTSTART;TZID=America/New_York:20251011T100000
DTEND;TZID=America/New_York:20251011T123000
DTSTAMP:20260420T005638
CREATED:20251007T182505Z
LAST-MODIFIED:20251007T182505Z
UID:1295-1760176800-1760185800@peacoxpeercenter.org
SUMMARY:STEM Academy
DESCRIPTION:How to Start Coding
URL:https://peacoxpeercenter.org/detailed-view/stem-academy-7/
ATTACH;FMTTYPE=image/png:https://peacoxpeercenter.org/wp-content/uploads/2025/10/STEM-Acadamy.png
END:VEVENT
BEGIN:VEVENT
DTSTART;TZID=America/New_York:20251010T180000
DTEND;TZID=America/New_York:20251010T190000
DTSTAMP:20260420T005638
CREATED:20251007T181851Z
LAST-MODIFIED:20251007T181851Z
UID:1287-1760119200-1760122800@peacoxpeercenter.org
SUMMARY:NA Silver Lining Meeting
DESCRIPTION:Narcotics Anonymous Silver Lining Meeting
URL:https://peacoxpeercenter.org/detailed-view/na-silver-lining-meeting-2/
ATTACH;FMTTYPE=image/png:https://peacoxpeercenter.org/wp-content/uploads/2025/10/NA.png
END:VEVENT
BEGIN:VEVENT
DTSTART;TZID=America/New_York:20251010T130000
DTEND;TZID=America/New_York:20251010T143000
DTSTAMP:20260420T005638
CREATED:20251007T181244Z
LAST-MODIFIED:20251007T181244Z
UID:1278-1760101200-1760106600@peacoxpeercenter.org
SUMMARY:Art Expressions Class
DESCRIPTION:
URL:https://peacoxpeercenter.org/detailed-view/art-expressions-class-22/
ATTACH;FMTTYPE=image/png:https://peacoxpeercenter.org/wp-content/uploads/2025/10/Art-Expression-.png
END:VEVENT
BEGIN:VEVENT
DTSTART;TZID=America/New_York:20251009T180000
DTEND;TZID=America/New_York:20251009T190000
DTSTAMP:20260420T005638
CREATED:20251007T184755Z
LAST-MODIFIED:20251007T184755Z
UID:1325-1760032800-1760036400@peacoxpeercenter.org
SUMMARY:AA Big Book Study Meeting
DESCRIPTION:Alcoholics Anonymous Big Book Study Meeting
URL:https://peacoxpeercenter.org/detailed-view/aa-big-book-study-meeting-2/
ATTACH;FMTTYPE=image/png:https://peacoxpeercenter.org/wp-content/uploads/2025/10/AA-1.png
END:VEVENT
BEGIN:VEVENT
DTSTART;TZID=America/New_York:20251008T170000
DTEND;TZID=America/New_York:20251008T183000
DTSTAMP:20260420T005638
CREATED:20251007T194601Z
LAST-MODIFIED:20251007T194601Z
UID:1359-1759942800-1759948200@peacoxpeercenter.org
SUMMARY:Bible Study
DESCRIPTION:
URL:https://peacoxpeercenter.org/detailed-view/bible-study-12/
END:VEVENT
BEGIN:VEVENT
DTSTART;TZID=America/New_York:20251008T153000
DTEND;TZID=America/New_York:20251008T180000
DTSTAMP:20260420T005638
CREATED:20251007T194130Z
LAST-MODIFIED:20251007T194130Z
UID:1339-1759937400-1759946400@peacoxpeercenter.org
SUMMARY:Student Mentoring
DESCRIPTION:
URL:https://peacoxpeercenter.org/detailed-view/student-mentoring-74/
END:VEVENT
BEGIN:VEVENT
DTSTART;TZID=America/New_York:20251007T153000
DTEND;TZID=America/New_York:20251007T180000
DTSTAMP:20260420T005638
CREATED:20251007T194100Z
LAST-MODIFIED:20251007T194100Z
UID:1337-1759851000-1759860000@peacoxpeercenter.org
SUMMARY:Student Mentoring
DESCRIPTION:
URL:https://peacoxpeercenter.org/detailed-view/student-mentoring-73/
END:VEVENT
BEGIN:VEVENT
DTSTART;TZID=America/New_York:20251005T100000
DTEND;TZID=America/New_York:20251005T120000
DTSTAMP:20260420T005638
CREATED:20251007T180453Z
LAST-MODIFIED:20251007T180453Z
UID:1262-1759658400-1759665600@peacoxpeercenter.org
SUMMARY:Worship Services
DESCRIPTION:
URL:https://peacoxpeercenter.org/detailed-view/worship-services-19/
END:VEVENT
BEGIN:VEVENT
DTSTART;TZID=America/New_York:20251003T180000
DTEND;TZID=America/New_York:20251003T190000
DTSTAMP:20260420T005638
CREATED:20251007T175738Z
LAST-MODIFIED:20251007T175738Z
UID:1259-1759514400-1759518000@peacoxpeercenter.org
SUMMARY:NA Silver Lining Meeting
DESCRIPTION:Narcotics Anonymous Silver Lining Meeting
URL:https://peacoxpeercenter.org/detailed-view/na-silver-lining-meeting/
ATTACH;FMTTYPE=image/png:https://peacoxpeercenter.org/wp-content/uploads/2025/10/NA.png
END:VEVENT
BEGIN:VEVENT
DTSTART;TZID=America/New_York:20251003T130000
DTEND;TZID=America/New_York:20251003T143000
DTSTAMP:20260420T005638
CREATED:20251007T175343Z
LAST-MODIFIED:20251007T175343Z
UID:1256-1759496400-1759501800@peacoxpeercenter.org
SUMMARY:Art Expressions Class
DESCRIPTION:
URL:https://peacoxpeercenter.org/detailed-view/art-expressions-class-21/
ATTACH;FMTTYPE=image/png:https://peacoxpeercenter.org/wp-content/uploads/2025/10/Art-Expression-.png
END:VEVENT
BEGIN:VEVENT
DTSTART;TZID=America/New_York:20251002T180000
DTEND;TZID=America/New_York:20251002T190000
DTSTAMP:20260420T005638
CREATED:20251007T175224Z
LAST-MODIFIED:20251007T175224Z
UID:1253-1759428000-1759431600@peacoxpeercenter.org
SUMMARY:AA Big Book Study Meeting
DESCRIPTION:Alcoholics Anonymous Big Book Study Meeting
URL:https://peacoxpeercenter.org/detailed-view/aa-big-book-study-meeting/
ATTACH;FMTTYPE=image/png:https://peacoxpeercenter.org/wp-content/uploads/2025/10/AA.png
END:VEVENT
BEGIN:VEVENT
DTSTART;TZID=America/New_York:20250731T153000
DTEND;TZID=America/New_York:20250731T180000
DTSTAMP:20260420T005638
CREATED:20250709T220611Z
LAST-MODIFIED:20250709T220611Z
UID:1250-1753975800-1753984800@peacoxpeercenter.org
SUMMARY:Student Mentoring
DESCRIPTION:
URL:https://peacoxpeercenter.org/detailed-view/student-mentoring-72/
LOCATION:Peacox Community Partners Building\, 678 S. Yearling Rd\, Columbus\, OH\, 43213\, United States
END:VEVENT
BEGIN:VEVENT
DTSTART;TZID=America/New_York:20250730T170000
DTEND;TZID=America/New_York:20250730T183000
DTSTAMP:20260420T005638
CREATED:20250709T184929Z
LAST-MODIFIED:20250709T184929Z
UID:1159-1753894800-1753900200@peacoxpeercenter.org
SUMMARY:Bible Study
DESCRIPTION:
URL:https://peacoxpeercenter.org/detailed-view/bible-study-11/
LOCATION:Peacox Community Partners Building\, 678 S. Yearling Rd\, Columbus\, OH\, 43213\, United States
ATTACH;FMTTYPE=application/pdf:https://peacoxpeercenter.org/wp-content/uploads/2025/07/Bible-Study-Flyer-July-2025.pdf
END:VEVENT
BEGIN:VEVENT
DTSTART;TZID=America/New_York:20250730T160000
DTEND;TZID=America/New_York:20250730T170000
DTSTAMP:20260420T005638
CREATED:20250709T214920Z
LAST-MODIFIED:20250709T214920Z
UID:1224-1753891200-1753894800@peacoxpeercenter.org
SUMMARY:Business Incubator
DESCRIPTION:
URL:https://peacoxpeercenter.org/detailed-view/business-incubator-9/
LOCATION:Peacox Community Partners Building\, 678 S. Yearling Rd\, Columbus\, OH\, 43213\, United States
END:VEVENT
BEGIN:VEVENT
DTSTART;TZID=America/New_York:20250729T153000
DTEND;TZID=America/New_York:20250729T180000
DTSTAMP:20260420T005638
CREATED:20250709T220243Z
LAST-MODIFIED:20250709T220243Z
UID:1243-1753803000-1753812000@peacoxpeercenter.org
SUMMARY:Student Mentoring
DESCRIPTION:
URL:https://peacoxpeercenter.org/detailed-view/student-mentoring-71/
LOCATION:Peacox Community Partners Building\, 678 S. Yearling Rd\, Columbus\, OH\, 43213\, United States
END:VEVENT
BEGIN:VEVENT
DTSTART;TZID=America/New_York:20250728T153000
DTEND;TZID=America/New_York:20250728T180000
DTSTAMP:20260420T005638
CREATED:20250709T220224Z
LAST-MODIFIED:20250709T220224Z
UID:1242-1753716600-1753725600@peacoxpeercenter.org
SUMMARY:Student Mentoring
DESCRIPTION:
URL:https://peacoxpeercenter.org/detailed-view/student-mentoring-70/
LOCATION:Peacox Community Partners Building\, 678 S. Yearling Rd\, Columbus\, OH\, 43213\, United States
END:VEVENT
BEGIN:VEVENT
DTSTART;TZID=America/New_York:20250727T100000
DTEND;TZID=America/New_York:20250727T120000
DTSTAMP:20260420T005638
CREATED:20250709T185336Z
LAST-MODIFIED:20250709T185336Z
UID:1169-1753610400-1753617600@peacoxpeercenter.org
SUMMARY:Worship Services
DESCRIPTION:
URL:https://peacoxpeercenter.org/detailed-view/worship-services-18/
LOCATION:Peacox Community Partners Building\, 678 S. Yearling Rd\, Columbus\, OH\, 43213\, United States
END:VEVENT
BEGIN:VEVENT
DTSTART;TZID=America/New_York:20250726T120000
DTEND;TZID=America/New_York:20250726T133000
DTSTAMP:20260420T005638
CREATED:20250709T192919Z
LAST-MODIFIED:20250709T192919Z
UID:1190-1753531200-1753536600@peacoxpeercenter.org
SUMMARY:Neighborhood Watch
DESCRIPTION:
URL:https://peacoxpeercenter.org/detailed-view/neighborhood-watch-4/
LOCATION:Peacox Community Partners Building\, 678 S. Yearling Rd\, Columbus\, OH\, 43213\, United States
ATTACH;FMTTYPE=application/pdf:https://peacoxpeercenter.org/wp-content/uploads/2025/07/Neighborhood-Watch-072625.pdf
END:VEVENT
END:VCALENDAR